BEGIN:VCALENDAR
VERSION:2.0
PRODID:spatie/icalendar-generator
DESCRIPTION:Veranstaltungen von SV Mammendorf e.V.
X-WR-CALDESC:Veranstaltungen von SV Mammendorf e.V.
REFRESH-INTERVAL;VALUE=DURATION:PT1440M
X-PUBLISHED-TTL:PT1440M
BEGIN:VTIMEZONE
TZID:Europe/Berlin
BEGIN:STANDARD
DTSTART:20251026T030000Z
TZOFFSETFROM:+0200
TZOFFSETTO:+0100
END:STANDARD
BEGIN:DAYLIGHT
DTSTART:20260329T020000Z
TZOFFSETFROM:+0100
TZOFFSETTO:+0200
END:DAYLIGHT
END:VTIMEZONE
BEGIN:VTIMEZONE
TZID:UTC
BEGIN:STANDARD
DTSTART:20250725T133445Z
TZOFFSETFROM:+0000
TZOFFSETTO:+0000
END:STANDARD
END:VTIMEZONE
BEGIN:VEVENT
UID:163-130
DTSTAMP:20260421T133445Z
SUMMARY:Merkur Cup 2. Vorrunde Gruppe 1 und 2
LOCATION:Sportgelände am Jahnweg Jahnweg 9  Mammendorf  82291
ORGANIZER;CN=Stefan Thurner:MAILTO:thurner.stefan@gmx.de
DTSTART;TZID=Europe/Berlin:20260418T100000
DTEND;TZID=Europe/Berlin:20260418T123000
X-ALT-DESC;FMTTYPE=TEXT/HTML:
CATEGORIES:Fußball
URL;VALUE=URI:https://www.sv-mammendorf.de/mc-events/merkur-cup-2-vorrunde-
 gruppe-1-und-2/
METHOD:PUBLISH
END:VEVENT
END:VCALENDAR