BEGIN:VCALENDAR
VERSION:2.0
PRODID:spatie/icalendar-generator
DESCRIPTION:Veranstaltungen von SV Mammendorf e.V.
X-WR-CALDESC:Veranstaltungen von SV Mammendorf e.V.
REFRESH-INTERVAL;VALUE=DURATION:PT1440M
X-PUBLISHED-TTL:PT1440M
BEGIN:VTIMEZONE
TZID:Europe/Berlin
BEGIN:STANDARD
DTSTART:20251026T030000Z
TZOFFSETFROM:+0200
TZOFFSETTO:+0100
END:STANDARD
BEGIN:DAYLIGHT
DTSTART:20260329T020000Z
TZOFFSETFROM:+0100
TZOFFSETTO:+0200
END:DAYLIGHT
END:VTIMEZONE
BEGIN:VTIMEZONE
TZID:UTC
BEGIN:STANDARD
DTSTART:20250725T151305Z
TZOFFSETFROM:+0000
TZOFFSETTO:+0000
END:STANDARD
END:VTIMEZONE
BEGIN:VEVENT
UID:165-132
DTSTAMP:20260421T151305Z
SUMMARY:ordentlichen Mitgliederversammlung für das Geschäftsjahr 2025
LOCATION:Saal - Bürgerhaus Mammendorf Jahnweg 11  Mammendorf  82291
ORGANIZER;CN=Stefan Thurner:MAILTO:thurner.stefan@gmx.de
DTSTART;TZID=Europe/Berlin:20260417T200000
DTEND;TZID=Europe/Berlin:20260417T210000
X-ALT-DESC;FMTTYPE=TEXT/HTML:Tagesordnung: &amp;nbsp\; 1. Begrüßung 2. Festst
 ellung der ordnungsgemäßen Ladung und der Beschlussfähigkeit 3. Totenge
 denken 4. Grußworte 5. Berichte der Vorstandschaft 6. Berichte der Abteil
 ungsleitungen 7. Bericht der Revisoren für das Jahr 2025 8. Aussprache zu
  den Berichten 9. Entlastung der Vorstandschaft für das Jahr 2025 10. Ehr
 ungen 11. Informationen zum 80-jährigen Jubiläum 12. Anträge zur&amp;hellip
 \;
CATEGORIES:Allgemein
URL;VALUE=URI:https://www.sv-mammendorf.de/mc-events/ordentlichen-mitgliede
 rversammlung-fuer-das-geschaeftsjahr-2025/
METHOD:PUBLISH
END:VEVENT
END:VCALENDAR